BEGIN:VCALENDAR
VERSION:2.0
PRODID:icalendar-ruby
CALSCALE:GREGORIAN
METHOD:PUBLISH
BEGIN:VEVENT
DTSTAMP:20260422T101252Z
UID:6-1166007@crownlifeinternational.tithelysetup2.com
DTSTART;VALUE=DATE:20260507
DTEND;VALUE=DATE:20261005
CLASS:PUBLIC
CREATED:20260421T201933
DESCRIPTION:CrownLife International has opened our online Store where you c
 an shop to support the work of the ministry as we serve in the world's har
 dest places. Our mission is to "Share Jesus While Serving The Needy!" You 
 prayers\, donations and support by purchasing items from our store will he
 lp provide much needed resouces for the ministry. \n\nWe will be adding E
 -Books\, PDF Books\, Podcast and much more as we go along. Come back often
  and be pleasantly surprised. You will find links in our Top Menu as "Stor
 e" as well as in our Footer Menu\, as well as in this Event article and we
  will add a few buttons at strategic locations on our website. \n\nThe di
 rect link for our hosted store is here:  https://crownlife-international.
 creator-spring.com
LAST-MODIFIED:20260421T201933
LOCATION:Online
SUMMARY:The CLI Store Is Open
URL;VALUE=URI:https://crownlifeinternational.tithelysetup2.com/events/the-c
 li-store-is-open/2026-05-07
ATTACH;FILENAME=The-CrownLife-International-Store.png;FMTTYPE=image/png:htt
 ps://dq5pwpg1q8ru0.cloudfront.net/2021/09/08/22/05/23/51cd7852-bcbe-4238-b
 cb6-61e83186b2e0/The-CrownLife-International-Store.png
END:VEVENT
END:VCALENDAR
